BEGIN:VCALENDAR
VERSION:2.0
PRODID:icalendar-ruby
CALSCALE:GREGORIAN
METHOD:PUBLISH
BEGIN:VEVENT
DTSTAMP:20260421T054814Z
UID:27-919817@locharbor.com
DTSTART:20260930T233000Z
DTEND:20261001T003000Z
CLASS:PUBLIC
CREATED:20260420T183333
DESCRIPTION:Come join us for our Mid-Week services on Wednesday Nights. The
 y begin at 6:30pm and there are classes for Kids\, youth and adults. We lo
 oking forward for you to join us on Wednesday nights. 
LAST-MODIFIED:20260420T183333
LOCATION:Loch Arbor Baptist Church
SUMMARY:Wednesday Night Service
URL;VALUE=URI:https://www.locharbor.com/events/wednesday-night-service/2026
 -09-30
ATTACH;FILENAME=Unknown.jpeg;FMTTYPE=image/jpeg:https://dq5pwpg1q8ru0.cloud
 front.net/2022/02/18/12/47/31/e3f067ab-7d65-48ae-947f-5d24dc76a085/Unknown
 .jpeg
END:VEVENT
END:VCALENDAR
